BEGIN:VCALENDAR
VERSION:2.0
PRODID:-//ChamberMaster//Event Calendar 2.0//EN
METHOD:PUBLISH
X-PUBLISHED-TTL:P3D
REFRESH-INTERVAL:P3D
CALSCALE:GREGORIAN
BEGIN:VEVENT
DTSTART:20180523T150000Z
DTEND:20180523T153000Z
X-MICROSOFT-CDO-ALLDAYEVENT:FALSE
SUMMARY:Ribbon Cutting - LSI Staffing
DESCRIPTION:Help us welcome LSI Staffing to Siouxland by attending their upcoming Ribbon Cutting.  Cookies and beverages will be served following the ceremony.  LSI Staffing provides flexible\, on-demand staffing solutions to gain access to the support your business need - when and where needed - leaving more time to focus on growing your business.  With a focus on manufacturing and distribution\, LSI understands the importance of safety in the workplace and are one of 125 staffing companies in the nation that is WRC certified.
X-ALT-DESC;FMTTYPE=text/html:Help us welcome LSI Staffing to Siouxland by attending their upcoming Ribbon Cutting.&nbsp\; Cookies and beverages will be served following the ceremony.&nbsp\; LSI&nbsp\;Staffing provides flexible\, on-demand staffing solutions to gain access to the support your business need - when and where needed - leaving more time to focus on growing your business.&nbsp\; With a focus on manufacturing and distribution\, LSI&nbsp\;understands the importance of safety in the workplace and are one of 125 staffing companies in the nation that is WRC&nbsp\;certified.
LOCATION:3109 Gordon Drive Sioux City\, IA
UID:e.769.4714
SEQUENCE:3
DTSTAMP:20260420T145714Z
URL:https://directory.siouxlandchamber.com/events/details/ribbon-cutting-lsi-staffing-4714
END:VEVENT

END:VCALENDAR
