BEGIN:VCALENDAR
VERSION:2.0
PRODID:-//ChamberMaster//Event Calendar 2.0//EN
METHOD:PUBLISH
X-PUBLISHED-TTL:P3D
REFRESH-INTERVAL:P3D
CALSCALE:GREGORIAN
BEGIN:VEVENT
DTSTART:20171110T223000Z
DTEND:20171110T230000Z
X-MICROSOFT-CDO-ALLDAYEVENT:FALSE
SUMMARY:Ribbon Cutting - Live Well Home Care
DESCRIPTION:We will have a Chamber Ribbon Cutting to welcome new member\, Live Well Home Care to the Siouxland Chamber.  Live Well Home Care provides individualized quality care that meets the total needs of the client whose care can be safely and effectively managed at home\, and enhances the quality of life of the individuals they serve.
X-ALT-DESC;FMTTYPE=text/html:We will have a Chamber Ribbon Cutting to welcome new member\, Live Well Home Care to the Siouxland Chamber.&nbsp\; Live Well Home Care provides individualized quality care that meets the total needs of the client whose care can be safely and effectively managed at home\, and enhances&nbsp\;the quality of life of the individuals they serve.
LOCATION:519 12th Street Sioux City\, IA
UID:e.769.4592
SEQUENCE:3
DTSTAMP:20260420T061640Z
URL:https://directory.siouxlandchamber.com/events/details/ribbon-cutting-live-well-home-care-4592
END:VEVENT

END:VCALENDAR
