BEGIN:VCALENDAR
VERSION:2.0
PRODID:-//ChamberMaster//Event Calendar 2.0//EN
METHOD:PUBLISH
X-PUBLISHED-TTL:P3D
REFRESH-INTERVAL:P3D
CALSCALE:GREGORIAN
BEGIN:VEVENT
DTSTART:20191107T223000Z
DTEND:20191107T230000Z
X-MICROSOFT-CDO-ALLDAYEVENT:FALSE
SUMMARY:RIbbon Cutting - Little Red Embroidery Co
DESCRIPTION:Please join us in celebrating the remodel and expansion of Little Red Embroidery Co. at their Ribbon Cutting.
X-ALT-DESC;FMTTYPE=text/html:Please join us in celebrating the remodel and expansion of Little Red Embroidery Co. at their Ribbon Cutting.
LOCATION:406 4th Street Sergeant Bluff\, IA 51054
UID:e.769.5211
SEQUENCE:3
DTSTAMP:20260421T181534Z
URL:https://directory.siouxlandchamber.com/events/details/ribbon-cutting-little-red-embroidery-co-5211
END:VEVENT

END:VCALENDAR
