BEGIN:VCALENDAR
VERSION:2.0
PRODID:-//ChamberMaster//Event Calendar 2.0//EN
METHOD:PUBLISH
X-PUBLISHED-TTL:P3D
REFRESH-INTERVAL:P3D
CALSCALE:GREGORIAN
BEGIN:VEVENT
DTSTART:20170816T160000Z
DTEND:20170816T162500Z
X-MICROSOFT-CDO-ALLDAYEVENT:FALSE
SUMMARY:Ribbon Cutting - Little Priest Tribal College
DESCRIPTION:Little Priest Tribal College will cut the ribbon on their new girls' dormitory at their Winnebago Campus.  The Winnebago Tribe of Nebraska chartered Little Priest Tribal College in May 1996.  Its major focus is to provide a two-year associate degree\, and prepare students to transfer and successfully complete a major at a four-year institution.  An equally important part of the college's mission is to provide language and culture classes and training opportunities for upgrading job skills and improving employability.
X-ALT-DESC;FMTTYPE=text/html:Little Priest Tribal College will cut the ribbon on their new girls&#39\; dormitory at their Winnebago Campus. &nbsp\;The Winnebago Tribe of Nebraska chartered Little Priest Tribal College in May 1996. &nbsp\;Its major focus is to provide a two-year associate degree\, and prepare students to transfer and successfully complete a major at a four-year institution. &nbsp\;An equally important part of the college&#39\;s mission is to provide language and culture classes and training opportunities for upgrading job skills and improving employability.
LOCATION:504 Eagle View (right behind Daga's) Winnebago\, NE
UID:e.769.3552
SEQUENCE:3
DTSTAMP:20260420T015805Z
URL:https://directory.siouxlandchamber.com/events/details/ribbon-cutting-little-priest-tribal-college-3552
END:VEVENT

END:VCALENDAR
