BEGIN:VCALENDAR
VERSION:2.0
PRODID:-//ChamberMaster//Event Calendar 2.0//EN
METHOD:PUBLISH
X-PUBLISHED-TTL:P3D
REFRESH-INTERVAL:P3D
CALSCALE:GREGORIAN
BEGIN:VEVENT
DTSTART:20191024T213000Z
DTEND:20191024T220000Z
X-MICROSOFT-CDO-ALLDAYEVENT:FALSE
SUMMARY:Ribbon Cutting - Lila Mae's House
DESCRIPTION:Please join us for an Open House and Ribbon Cutting celebrating new Siouxland Chamber member\, Lila Mae's House. Open House from 4:00pm - 6:00pm with Ribbon Cutting at 4:30pm. Lila Mae's House seeks to help women who have been victimized through sex trafficking live the rest of their lives the best they can with what they've experienced.
X-ALT-DESC;FMTTYPE=text/html:Please join us for an Open House and Ribbon Cutting celebrating new Siouxland Chamber member\, Lila Mae&#39\;s House. Open House from 4:00pm - 6:00pm with Ribbon Cutting at 4:30pm. Lila Mae&#39\;s House seeks to help women who have been victimized through sex trafficking live the rest of their lives the best they can with what they&#39\;ve experienced.
LOCATION:Ho-Chunk Centre Atrium 600 4th Street Sioux City\, IA 51101
UID:e.769.5208
SEQUENCE:3
DTSTAMP:20260421T164723Z
URL:https://directory.siouxlandchamber.com/events/details/ribbon-cutting-lila-mae-s-house-5208
END:VEVENT

END:VCALENDAR
