BEGIN:VCALENDAR
VERSION:2.0
PRODID:-//ChamberMaster//Event Calendar 2.0//EN
METHOD:PUBLISH
X-PUBLISHED-TTL:P3D
REFRESH-INTERVAL:P3D
CALSCALE:GREGORIAN
BEGIN:VEVENT
DTSTART:20180521T150000Z
DTEND:20180521T160000Z
X-MICROSOFT-CDO-ALLDAYEVENT:FALSE
SUMMARY:Ribbon Cutting - LifeServe Blood Center
DESCRIPTION:LifeServe Blood Center is holding an Open House with a breakfast social hour from 10:00-11:00 AM and a Ribbon Cutting at 10:30 AM to celebrate the completion of their new facility that will house the mobile team members and an entire testing lab.  Please join us and congratulate them on their growth and enjoy tours\, great food and networking.
X-ALT-DESC;FMTTYPE=text/html:LifeServe&nbsp\;Blood Center is holding an Open House with a breakfast social hour from 10:00-11:00 AM and a Ribbon Cutting at 10:30 AM to celebrate the completion of their new facility that will house the mobile team members and an entire testing lab.&nbsp\; Please join us and congratulate them on their growth and enjoy tours\, great food and networking.
LOCATION:3300 Line Drive Sioux City\, IA
UID:e.769.4711
SEQUENCE:3
DTSTAMP:20260420T163813Z
URL:https://directory.siouxlandchamber.com/events/details/ribbon-cutting-lifeserve-blood-center-4711
END:VEVENT

END:VCALENDAR
