BEGIN:VCALENDAR
VERSION:2.0
PRODID:-//ChamberMaster//Event Calendar 2.0//EN
METHOD:PUBLISH
X-PUBLISHED-TTL:P3D
REFRESH-INTERVAL:P3D
CALSCALE:GREGORIAN
BEGIN:VEVENT
DTSTART:20161026T150000Z
DTEND:20161026T153000Z
X-MICROSOFT-CDO-ALLDAYEVENT:FALSE
SUMMARY:Ribbon Cutting - LifeScape AbleKids
DESCRIPTION:AbleKids Pediatric Therapy of Sioux City has joined with LifeScape\, an organization with centers in Sioux Falls & Rapid City.  LifeScape AbleKids will celebrate their union with a Chamber Ribbon Cutting.  LifeScape AbleKids will provide the same excellent pediatric physical\, occupational\, and speech therapy you have come to expect.  Please join us in applauding their growth.
X-ALT-DESC;FMTTYPE=text/html:AbleKids Pediatric Therapy of Sioux City has joined with LifeScape\, an organization with centers in Sioux Falls &amp\; Rapid City.&nbsp\; LifeScape AbleKids will celebrate their union with a Chamber Ribbon Cutting.&nbsp\; LifeScape AbleKids will provide the same excellent pediatric physical\, occupational\, and speech therapy you have come to expect.&nbsp\; Please join us in applauding their growth.
LOCATION:2524 Glenn Avenue Sioux City
UID:e.769.3333
SEQUENCE:3
DTSTAMP:20260421T114547Z
URL:https://directory.siouxlandchamber.com/events/details/ribbon-cutting-lifescape-ablekids-3333
END:VEVENT

END:VCALENDAR
