BEGIN:VCALENDAR
VERSION:2.0
PRODID:-//ChamberMaster//Event Calendar 2.0//EN
METHOD:PUBLISH
X-PUBLISHED-TTL:P3D
REFRESH-INTERVAL:P3D
CALSCALE:GREGORIAN
BEGIN:VEVENT
DTSTART:20160524T151500Z
DTEND:20160524T154500Z
X-MICROSOFT-CDO-ALLDAYEVENT:FALSE
SUMMARY:Ribbon Cutting - Lewis & Clark Park\, Mercy Field
DESCRIPTION:The Sioux City Explorers in partnership with Mercy Medical Center invite you to the unveiling of the Explorer's new state of the art video scoreboard at Lewis & Clark Park\, Mercy Field.  Please join the celebration as they cut the ribbon and officially put the new scoreboard into service.
X-ALT-DESC;FMTTYPE=text/html:The Sioux City Explorers in partnership with Mercy Medical Center invite you to the unveiling of the Explorer&#39\;s new state of the art video scoreboard at Lewis &amp\; Clark Park\, Mercy Field. &nbsp\;Please join the celebration as they cut the ribbon and&nbsp\;officially put the new scoreboard into service.
LOCATION:Lewis & Clark Park\, Mercy Field 3400 Line Drive\, Sioux City
UID:e.769.3279
SEQUENCE:3
DTSTAMP:20260421T185657Z
URL:https://directory.siouxlandchamber.com/events/details/ribbon-cutting-lewis-clark-park-mercy-field-05-24-2016-3279
END:VEVENT

END:VCALENDAR
