BEGIN:VCALENDAR
VERSION:2.0
PRODID:-//ChamberMaster//Event Calendar 2.0//EN
METHOD:PUBLISH
X-PUBLISHED-TTL:P3D
REFRESH-INTERVAL:P3D
CALSCALE:GREGORIAN
BEGIN:VEVENT
DTSTART:20171213T163000Z
DTEND:20171213T170000Z
X-MICROSOFT-CDO-ALLDAYEVENT:FALSE
SUMMARY:Ribbon Cutting - Level Spine Chiropractic
DESCRIPTION:Level Spine Chiropractic will celebrate their new Chamber membership with a ribbon cutting ceremony.  Come meet and welcome Dr. Colt Ludwig and learn how you can "keep your body in-line with Level Spine".
X-ALT-DESC;FMTTYPE=text/html:Level Spine Chiropractic will celebrate their new Chamber membership with a ribbon cutting ceremony.&nbsp\; Come meet and welcome Dr. Colt Ludwig and learn how you can &quot\;keep your body in-line with Level Spine&quot\;.
LOCATION:140 Gaul Drive Sgt Bluff\, IA (just off of S Lewis Blvd/Old Hwy 75)
UID:e.769.4611
SEQUENCE:3
DTSTAMP:20260420T074335Z
URL:https://directory.siouxlandchamber.com/events/details/ribbon-cutting-level-spine-chiropractic-4611
END:VEVENT

END:VCALENDAR
