BEGIN:VCALENDAR
VERSION:2.0
PRODID:-//ChamberMaster//Event Calendar 2.0//EN
METHOD:PUBLISH
X-PUBLISHED-TTL:P3D
REFRESH-INTERVAL:P3D
CALSCALE:GREGORIAN
BEGIN:VEVENT
DTSTART:20170113T190000Z
DTEND:20170113T193000Z
X-MICROSOFT-CDO-ALLDAYEVENT:FALSE
SUMMARY:Ribbon Cutting - Legendary Repair Services
DESCRIPTION:The Siouxland Chamber Ambassadors will give a Chamber welcome to new member Legendary Repair Services with a ribbon cutting ceremony.  Under new ownership\, Legendary Repair Services is your complete electronics service provider.  Please join us in congratulating Tammie Strong on her new business and visit a bit over refreshments.
X-ALT-DESC;FMTTYPE=text/html:The Siouxland&nbsp\;Chamber Ambassadors will give a Chamber welcome to new member Legendary Repair Services with a ribbon cutting ceremony. &nbsp\;Under new ownership\, Legendary Repair Services is your complete electronics service provider. &nbsp\;Please join us in congratulating Tammie Strong on her new business and visit a bit over refreshments.
LOCATION:2928 Gordon Drive Sioux City
UID:e.769.3431
SEQUENCE:3
DTSTAMP:20260419T151552Z
URL:https://directory.siouxlandchamber.com/events/details/ribbon-cutting-legendary-repair-services-3431
END:VEVENT

END:VCALENDAR
