BEGIN:VCALENDAR
VERSION:2.0
PRODID:-//ChamberMaster//Event Calendar 2.0//EN
METHOD:PUBLISH
X-PUBLISHED-TTL:P3D
REFRESH-INTERVAL:P3D
CALSCALE:GREGORIAN
BEGIN:VEVENT
DTSTART:20170601T180000Z
DTEND:20170601T183000Z
X-MICROSOFT-CDO-ALLDAYEVENT:FALSE
SUMMARY:Ribbon Cutting - Leeds Splash Pad
DESCRIPTION:A ribbon cutting ceremony will commemorate the dedication of the newly opened Leeds Park Splash Pad.  The public is welcome and the Parks and Recreation Department is encouraging public use of the splash pad during the dedication\, so bring the kids and your swim suits!
X-ALT-DESC;FMTTYPE=text/html:A ribbon cutting ceremony will commemorate the dedication of the newly opened Leeds Park Splash Pad. &nbsp\;The public is welcome and the Parks and Recreation Department is encouraging public use of the splash pad during the dedication\, so bring the kids and your swim suits!&nbsp\;&nbsp\;&nbsp\;&nbsp\; &nbsp\;&nbsp\;&nbsp\;&nbsp\;&nbsp\;
LOCATION:3810 41st Street Sioux City
UID:e.769.3506
SEQUENCE:3
DTSTAMP:20260419T230320Z
URL:https://directory.siouxlandchamber.com/events/details/ribbon-cutting-leeds-splash-pad-3506
END:VEVENT

END:VCALENDAR
