BEGIN:VCALENDAR
VERSION:2.0
PRODID:-//ChamberMaster//Event Calendar 2.0//EN
METHOD:PUBLISH
X-PUBLISHED-TTL:P3D
REFRESH-INTERVAL:P3D
CALSCALE:GREGORIAN
BEGIN:VEVENT
DTSTART:20160211T163000Z
DTEND:20160211T170000Z
X-MICROSOFT-CDO-ALLDAYEVENT:FALSE
SUMMARY:Ribbon Cutting - LaunchPAD Childrens' Museum
DESCRIPTION:In celebration of LaunchPAD Childeren's Museum's Grand Opening\, a Ribbon Cutting will be held February 11th.
X-ALT-DESC;FMTTYPE=text/html:In celebration of LaunchPAD Childeren&#39\;s Museum&#39\;s&nbsp\;Grand Opening\, a Ribbon Cutting will be held February 11th.
LOCATION:LaunchPAD Children's Museum 623 Pearl Street\, Sioux City Access the parking lot from Water Street
UID:e.769.3208
SEQUENCE:3
DTSTAMP:20260421T174135Z
URL:https://directory.siouxlandchamber.com/events/details/ribbon-cutting-launchpad-childrens-museum-02-11-2016-3208
END:VEVENT

END:VCALENDAR
