BEGIN:VCALENDAR
VERSION:2.0
PRODID:-//ChamberMaster//Event Calendar 2.0//EN
METHOD:PUBLISH
X-PUBLISHED-TTL:P3D
REFRESH-INTERVAL:P3D
CALSCALE:GREGORIAN
BEGIN:VEVENT
DTSTART:20191204T180000Z
DTEND:20191204T183000Z
X-MICROSOFT-CDO-ALLDAYEVENT:FALSE
SUMMARY:Ribbon Cutting - Lamb Arts Regional Theatre
DESCRIPTION:Please join us in celebrating new Siouxland Chamber member\, Lamb Arts Regional Theatre\, with a Ribbon Cutting! The Ribbon Cutting will be held on the stage at the theatre.
X-ALT-DESC;FMTTYPE=text/html:Please join us in celebrating new Siouxland Chamber member\,&nbsp\;Lamb Arts Regional Theatre\, with a Ribbon Cutting! The Ribbon Cutting will be held on the stage at the theatre.
LOCATION:417 Market Street Sioux City\, IA
UID:e.769.5270
SEQUENCE:3
DTSTAMP:20260421T194928Z
URL:https://directory.siouxlandchamber.com/events/details/ribbon-cutting-lamb-arts-regional-theatre-5270
END:VEVENT

END:VCALENDAR
