BEGIN:VCALENDAR
VERSION:2.0
PRODID:-//ChamberMaster//Event Calendar 2.0//EN
METHOD:PUBLISH
X-PUBLISHED-TTL:P3D
REFRESH-INTERVAL:P3D
CALSCALE:GREGORIAN
BEGIN:VEVENT
DTSTART:20170601T160000Z
DTEND:20170601T163000Z
X-MICROSOFT-CDO-ALLDAYEVENT:FALSE
SUMMARY:Ribbon Cutting - La Fe Nails
DESCRIPTION:We are happy to welcome new member\, La Fe Nails\, to the Siouxland Chamber with a ribbon cutting ceremony followed by an open house.  We hope you can join us and stay for a mani\, pedi\, and hors d'oeuvres and drinks following the ribbon cutting.  Raffles prizes and coupons will be part of the fun!
X-ALT-DESC;FMTTYPE=text/html:<span style="font-family:arial narrow\,sans-serif\;"><span style="font-size:12.0pt\;">We are happy to welcome new member\, La Fe Nails\, to the Siouxland Chamber with a ribbon cutting ceremony followed by an open house.&nbsp\; We hope you can join us and stay for a mani\, pedi\, and hors d&rsquo\;oeuvres&nbsp\;and drinks following the ribbon cutting.&nbsp\; Raffles prizes and coupons will be part of the fun!</span></span>
LOCATION:3122 Floyd Boulevard Sioux City\, IA
UID:e.769.3501
SEQUENCE:3
DTSTAMP:20260420T001320Z
URL:https://directory.siouxlandchamber.com/events/details/ribbon-cutting-la-fe-nails-3501
END:VEVENT

END:VCALENDAR
