BEGIN:VCALENDAR
VERSION:2.0
PRODID:-//ChamberMaster//Event Calendar 2.0//EN
METHOD:PUBLISH
X-PUBLISHED-TTL:P3D
REFRESH-INTERVAL:P3D
CALSCALE:GREGORIAN
BEGIN:VEVENT
DTSTART:20170614T180000Z
DTEND:20170614T190000Z
X-MICROSOFT-CDO-ALLDAYEVENT:FALSE
SUMMARY:Ribbon Cutting - Kum and Go\, Pierce Street
DESCRIPTION:We will welcome Kum and Go to the Siouxland Chamber and celebrate their recently remodeled stores with a ribbon cutting ceremony.  Food samples from their kitchen will be enjoyed following the ceremony.  From breakfast and donuts to salads\, sandwiches\, and pizza\, their food is made fresh every day\, right in each store's kitchen.
X-ALT-DESC;FMTTYPE=text/html:<span style="font-family:arial narrow\,sans-serif\;"><span style="font-size:12.0pt\;">We will welcome Kum and Go to the Siouxland Chamber and celebrate their recently remodeled stores with a ribbon cutting ceremony.&nbsp\; Food samples from their kitchen will be enjoyed following the ceremony.&nbsp\; From breakfast and donuts to salads\, sandwiches\, and pizza\, their food is made fresh every day\, right in each store&#39\;s kitchen.</span></span>
LOCATION:1373 Pierce Street Sioux City
UID:e.769.3507
SEQUENCE:3
DTSTAMP:20260419T230843Z
URL:https://directory.siouxlandchamber.com/events/details/ribbon-cutting-kum-and-go-pierce-street-3507
END:VEVENT

END:VCALENDAR
