BEGIN:VCALENDAR
VERSION:2.0
PRODID:-//ChamberMaster//Event Calendar 2.0//EN
METHOD:PUBLISH
X-PUBLISHED-TTL:P3D
REFRESH-INTERVAL:P3D
CALSCALE:GREGORIAN
BEGIN:VEVENT
DTSTART:20170901T180000Z
DTEND:20170901T183000Z
X-MICROSOFT-CDO-ALLDAYEVENT:FALSE
SUMMARY:Ribbon Cutting - Kitchen Dressings
DESCRIPTION:Kitchen Dressings has returned to the Southern Hills Mall.  To celebrate they will hold a Ribbon Cutting at their new location\, #112 Southern Hills Mall next to Finish Line.  A locally owned kitchen store\, Kitchen Dressings is sure to have what you need whether you are looking for fresh\, ground coffee\, specialty pastry items\, grilling tools\, or any item in-between.  Check out all the fun things when you join us for the Ribbon Cutting!
X-ALT-DESC;FMTTYPE=text/html:<span style="font-family:trebuchet ms\,sans-serif\;"><span style="font-size:10pt\;">Kitchen Dressings has returned to the Southern Hills Mall.&nbsp\; To celebrate they will hold a Ribbon Cutting at their new location\, #112 Southern Hills Mall next to Finish Line.&nbsp\; A locally owned kitchen store\, Kitchen Dressings is sure to have what you need whether you are looking for fresh\, ground coffee\, specialty pastry items\, grilling tools\, or any item in-between.&nbsp\; Check out all the fun things when you join us for the Ribbon Cutting!</span></span>
LOCATION:Southern Hills Mall #112 (next to Finish Line) 4400 Sergeant Road\, Sioux City
UID:e.769.3538
SEQUENCE:3
DTSTAMP:20260420T033230Z
URL:https://directory.siouxlandchamber.com/events/details/ribbon-cutting-kitchen-dressings-3538
END:VEVENT

END:VCALENDAR
