BEGIN:VCALENDAR
VERSION:2.0
PRODID:-//ChamberMaster//Event Calendar 2.0//EN
METHOD:PUBLISH
X-PUBLISHED-TTL:P3D
REFRESH-INTERVAL:P3D
CALSCALE:GREGORIAN
BEGIN:VEVENT
DTSTART:20151209T220000Z
DTEND:20151210T000000Z
X-MICROSOFT-CDO-ALLDAYEVENT:FALSE
SUMMARY:Ribbon Cutting @ Kerner Andersson Law
DESCRIPTION:Ribbon Cutting - Open House
X-ALT-DESC;FMTTYPE=text/html:Ribbon Cutting - Open House
LOCATION:Kerner Andersson Law Firm 370 West Anchor Drive\, Suite 216 Dakota Dunes\, SD 57049
UID:e.769.2188
SEQUENCE:3
DTSTAMP:20260421T143222Z
URL:https://directory.siouxlandchamber.com/events/details/ribbon-cutting-kerner-andersson-law-12-09-2015-2188
END:VEVENT

END:VCALENDAR
