BEGIN:VCALENDAR
VERSION:2.0
PRODID:-//ChamberMaster//Event Calendar 2.0//EN
METHOD:PUBLISH
X-PUBLISHED-TTL:P3D
REFRESH-INTERVAL:P3D
CALSCALE:GREGORIAN
BEGIN:VEVENT
DTSTART:20170427T220000Z
DTEND:20170427T223000Z
X-MICROSOFT-CDO-ALLDAYEVENT:FALSE
SUMMARY:Ribbon Cutting - KCAU - TV
DESCRIPTION:KCAU-TV will hold a Chamber ribbon cutting live\, on air during the 5:00 news broadcast in celebration of their new location.  We hope you can join the Siouxland Chamber and South Sioux Chamber at the ribbon cutting or via the airwaves to congratulate them on their new improvements.  There will be an Open House from 4:30 - 6:00 PM.
X-ALT-DESC;FMTTYPE=text/html:KCAU-TV will hold a Chamber ribbon cutting live\, on air during the 5:00 news broadcast in celebration of their new location. &nbsp\;We hope you can join the Siouxland Chamber and South Sioux Chamber&nbsp\;at the ribbon cutting or via the airwaves to congratulate them on their new improvements. &nbsp\;There will be an Open House from 4:30 - 6:00 PM.
LOCATION:5993 Gordon Drive Sioux City
UID:e.769.3475
SEQUENCE:3
DTSTAMP:20260419T210821Z
URL:https://directory.siouxlandchamber.com/events/details/ribbon-cutting-kcau-tv-3475
END:VEVENT

END:VCALENDAR
