BEGIN:VCALENDAR
VERSION:2.0
PRODID:-//ChamberMaster//Event Calendar 2.0//EN
METHOD:PUBLISH
X-PUBLISHED-TTL:P3D
REFRESH-INTERVAL:P3D
CALSCALE:GREGORIAN
BEGIN:VEVENT
DTSTART:20220513T213000Z
DTEND:20220513T220000Z
X-MICROSOFT-CDO-ALLDAYEVENT:FALSE
SUMMARY:Ribbon Cutting - Jefferson Beer Supply
DESCRIPTION:Join us in welcoming Jefferson Beer Supply to the Siouxland Chamber!\n\n\n\n"Jefferson Beer Supply is a small batch production brewery and taproom in rural Jefferson\, South Dakota\, about 5 miles north of North Sioux. With the support of our community and Siouxland at large\, we are excited to now debut our new beers. Our "South Dakota" style of beer focuses on the stories\, flavors\, and ingredients that make where we live unique! Our family oriented taproom experience caters to all ages\, with craft soda\, beers\, and ciders for all palettes. Bring your own food\, find our schedule of food trucks online\, get local delivery or enjoy our selection of locally made snacks. Our patio and space is dog friendly too!"
X-ALT-DESC;FMTTYPE=text/html:Join us in welcoming Jefferson Beer Supply to the Siouxland Chamber!<br />\n<br />\n&quot\;Jefferson Beer Supply is a small batch production brewery and taproom in rural Jefferson\, South Dakota\, about 5 miles north of North Sioux. With the support of our community and Siouxland at large\, we are excited to now debut our new beers. Our &quot\;South Dakota&quot\; style of beer focuses on the stories\, flavors\, and ingredients that make where we live unique! Our family&nbsp\;oriented taproom experience caters to all ages\, with craft soda\, beers\, and ciders for all palettes. Bring your own food\, find our schedule of food trucks online\, get local delivery or enjoy our selection of locally made snacks. Our patio and space is dog friendly too!&quot\;
LOCATION:202 Main Street Jefferson\, SD 57038
UID:e.769.5789
SEQUENCE:3
DTSTAMP:20260420T052407Z
URL:https://directory.siouxlandchamber.com/events/details/ribbon-cutting-jefferson-beer-supply-5789
END:VEVENT

END:VCALENDAR
