BEGIN:VCALENDAR
VERSION:2.0
PRODID:-//ChamberMaster//Event Calendar 2.0//EN
METHOD:PUBLISH
X-PUBLISHED-TTL:P3D
REFRESH-INTERVAL:P3D
CALSCALE:GREGORIAN
BEGIN:VEVENT
DTSTART:20160928T213000Z
DTEND:20160928T220000Z
X-MICROSOFT-CDO-ALLDAYEVENT:FALSE
SUMMARY:Ribbon Cutting - Jackson Street Brewing
DESCRIPTION:Please join the Siouxland Chamber Ambassadors as we officially welcome new business\, Jackson Street Brewing\, to the Chamber with a ribbon cutting ceremony.  Stop by the brewery and tasting room and congratulate the head brewer and owner\, Dave Winslow and learn about the several varieties of his hand-crafted seasonal ales\, porters\, fruit beers from his orchard harvests\, and stouts.
X-ALT-DESC;FMTTYPE=text/html:Please join the Siouxland Chamber Ambassadors as we officially welcome new business\, Jackson Street Brewing\, to the Chamber with a ribbon cutting ceremony.&nbsp\; Stop by the brewery and tasting room and congratulate the head brewer and owner\, Dave Winslow and learn about the several varieties of his hand-crafted seasonal ales\, porters\, fruit beers from his orchard harvests\, and stouts.&nbsp\;
LOCATION:605 Fifth Street Sioux City
UID:e.769.3328
SEQUENCE:3
DTSTAMP:20260421T132359Z
URL:https://directory.siouxlandchamber.com/events/details/ribbon-cutting-jackson-street-brewing-09-28-2016-3328
END:VEVENT

END:VCALENDAR
