BEGIN:VCALENDAR
VERSION:2.0
PRODID:-//ChamberMaster//Event Calendar 2.0//EN
METHOD:PUBLISH
X-PUBLISHED-TTL:P3D
REFRESH-INTERVAL:P3D
CALSCALE:GREGORIAN
BEGIN:VEVENT
DTSTART:20160714T170000Z
DTEND:20160714T173000Z
X-MICROSOFT-CDO-ALLDAYEVENT:FALSE
SUMMARY:Ribbon Cutting - Jackson Manor Apartments
DESCRIPTION:A ribbon cutting ceremony will be held to celebrate the grand opening of the newly renovated Jackson Manor Apartments.  After months of working to restore these historic apartments\, Rod Fife\, invites you to visit the improvements made in the Jackson Manor Apartments housing 36 rental units.  Refreshments will be served.
X-ALT-DESC;FMTTYPE=text/html:A ribbon cutting ceremony will be held to celebrate the grand opening of the newly renovated Jackson Manor Apartments. &nbsp\;After months of working to restore these historic apartments\, Rod Fife\, invites you to visit the improvements made in the Jackson Manor Apartments&nbsp\;housing 36 rental units. &nbsp\;Refreshments will be served.
LOCATION:1700 Jackson Street Sioux City Please note there is construction on Jackson Street. Please park on side streets or the 1600 block of Jackson Street.
UID:e.769.3294
SEQUENCE:3
DTSTAMP:20260421T173157Z
URL:https://directory.siouxlandchamber.com/events/details/ribbon-cutting-jackson-manor-apartments-07-14-2016-3294
END:VEVENT

END:VCALENDAR
