BEGIN:VCALENDAR
VERSION:2.0
PRODID:-//ChamberMaster//Event Calendar 2.0//EN
METHOD:PUBLISH
X-PUBLISHED-TTL:P3D
REFRESH-INTERVAL:P3D
CALSCALE:GREGORIAN
BEGIN:VEVENT
DTSTART:20180518T213000Z
DTEND:20180518T220000Z
X-MICROSOFT-CDO-ALLDAYEVENT:FALSE
SUMMARY:Ribbon Cutting - J & M Real Estate Group
DESCRIPTION:J & M Real Estate will host a Ribbon Cutting Event with an Open House following until 6:30 PM.  They hope you can join them to celebrate their new location and enjoy drinks and appetizers from M's. \n\n\n\nJ & M is a full-service Sioux City and Dakota Dunes real estate and property management company serving South Dakota\, Iowa\, and Nebraska.  Their goal is to set the standard of highest quality services in the residential management\, sales\, development and construction fields.
X-ALT-DESC;FMTTYPE=text/html:J &amp\; M Real Estate will host a Ribbon Cutting Event with an Open House following until 6:30 PM.&nbsp\; They hope you can join them to celebrate their new location and enjoy drinks and appetizers from M&#39\;s.&nbsp\;<br />\n<br />\nJ &amp\; M is a full-service Sioux City and Dakota Dunes real estate and property management company serving South Dakota\, Iowa\, and Nebraska.&nbsp\; Their goal is to set the standard of highest quality services in the residential management\, sales\, development and construction fields.
LOCATION:211 Sioux Point Road Suite 150 Dakota Dunes\, SD
UID:e.769.4695
SEQUENCE:3
DTSTAMP:20260420T150112Z
URL:https://directory.siouxlandchamber.com/events/details/ribbon-cutting-j-m-real-estate-group-4695
END:VEVENT

END:VCALENDAR
