BEGIN:VCALENDAR
VERSION:2.0
PRODID:-//ChamberMaster//Event Calendar 2.0//EN
METHOD:PUBLISH
X-PUBLISHED-TTL:P3D
REFRESH-INTERVAL:P3D
CALSCALE:GREGORIAN
BEGIN:VEVENT
DTSTART:20170609T150000Z
DTEND:20170609T153000Z
X-MICROSOFT-CDO-ALLDAYEVENT:FALSE
SUMMARY:Ribbon Cutting - ISU Extension-Woodbury County
DESCRIPTION:Iowa State University Extension - Woodbury County will hold a dedication with a ribbon cutting ceremony for their new Teaching Garden.  Please join them to see the garden and learn how it will be utilized to educate our community members.  A reception will follow the ceremony.
X-ALT-DESC;FMTTYPE=text/html:Iowa State University Extension - Woodbury County will hold a dedication with a ribbon cutting ceremony for their new Teaching Garden. &nbsp\;Please join them to see the garden and learn how it will be utilized to educate our community members. &nbsp\;A reception will follow the ceremony.
LOCATION:4728 Southern Hills Drive Sioux City
UID:e.769.3510
SEQUENCE:3
DTSTAMP:20260419T230816Z
URL:https://directory.siouxlandchamber.com/events/details/ribbon-cutting-isu-extension-woodbury-county-3510
END:VEVENT

END:VCALENDAR
