BEGIN:VCALENDAR
VERSION:2.0
PRODID:-//ChamberMaster//Event Calendar 2.0//EN
METHOD:PUBLISH
X-PUBLISHED-TTL:P3D
REFRESH-INTERVAL:P3D
CALSCALE:GREGORIAN
BEGIN:VEVENT
DTSTART:20170829T160000Z
DTEND:20170829T163000Z
X-MICROSOFT-CDO-ALLDAYEVENT:FALSE
SUMMARY:Ribbon Cutting - Intermission Respite Care
DESCRIPTION:Help us welcome Intermission Respite Care\, Inc. to the Siouxland Chamber and attend their upcoming ribbon cutting ceremony.  Intermission Respite Care\, Inc. is a non medical service to support caregivers and the person or family member they are caring for.
X-ALT-DESC;FMTTYPE=text/html:Help us welcome Intermission Respite Care\, Inc. to the Siouxland Chamber and attend their upcoming ribbon cutting ceremony. &nbsp\;Intermission Respite Care\, Inc. is a non medical service to support caregivers and the person or family member they are caring for.
LOCATION:Hosted at the Siouxland Chamber
UID:e.769.3554
SEQUENCE:3
DTSTAMP:20260420T031717Z
URL:https://directory.siouxlandchamber.com/events/details/ribbon-cutting-intermission-respite-care-3554
END:VEVENT

END:VCALENDAR
