BEGIN:VCALENDAR
VERSION:2.0
PRODID:-//ChamberMaster//Event Calendar 2.0//EN
METHOD:PUBLISH
X-PUBLISHED-TTL:P3D
REFRESH-INTERVAL:P3D
CALSCALE:GREGORIAN
BEGIN:VEVENT
DTSTART:20170721T000000Z
DTEND:20170721T003000Z
X-MICROSOFT-CDO-ALLDAYEVENT:FALSE
SUMMARY:Ribbon Cutting - IA State University Extension Marilyn Engle Teaching Garden
DESCRIPTION:A dedication of the Marilyn Engle Teaching Garden will take place at the Iowa State University Extension.  This ribbon cutting will be in addition to Rush Hour Connect festivities with an open house until 8:00 PM.  The Cattlemen will be grilling a delicious dinner and many activities will be included in the evening celebration
X-ALT-DESC;FMTTYPE=text/html:A dedication of the Marilyn Engle Teaching Garden will take place at the Iowa State University Extension. &nbsp\;This ribbon cutting will be in addition to Rush Hour Connect festivities with an open house until 8:00 PM. &nbsp\;The Cattlemen will be grilling a delicious dinner and many activities will be included in the evening celebration
LOCATION:4728 Southern Hills Drive SIoux City
UID:e.769.3526
SEQUENCE:3
DTSTAMP:20260420T003547Z
URL:https://directory.siouxlandchamber.com/events/details/ribbon-cutting-ia-state-university-extension-marilyn-engle-teaching-garden-3526
END:VEVENT

END:VCALENDAR
