BEGIN:VCALENDAR
VERSION:2.0
PRODID:-//ChamberMaster//Event Calendar 2.0//EN
METHOD:PUBLISH
X-PUBLISHED-TTL:P3D
REFRESH-INTERVAL:P3D
CALSCALE:GREGORIAN
BEGIN:VEVENT
DTSTART:20161108T190000Z
DTEND:20161108T193000Z
X-MICROSOFT-CDO-ALLDAYEVENT:FALSE
SUMMARY:Ribbon Cutting - IA Department for the Blind
DESCRIPTION:We will welcome new member\, the Iowa Department for the Blind\, with a ribbon cutting to be held at IowaWORKS Greater Siouxland.  The Department for the Blind supports and encourages independent living and full participation in life   at home\, at work and in communities.  They help educate\, train and empower blind and visually impaired individuals to pursue lifelong goals.  Please join us to show our appreciation for their support of the Siouxland Chamber.
X-ALT-DESC;FMTTYPE=text/html:<span style="font-family:arial narrow\,sans-serif\;">We will welcome new member\, the Iowa Department for the Blind\, with a ribbon cutting to be held at IowaWORKS Greater Siouxland.&nbsp\; The Department for the Blind supports and encourages independent living and full participation in life &ndash\; at home\, at work and in communities.&nbsp\; They help educate\, train and empower blind and visually impaired individuals to pursue lifelong goals.&nbsp\; Please join us to show our appreciation for their support of the Siouxland Chamber.</span>
LOCATION:Hosted by IowaWORKS Greater Siouxland 2508 4th Street Sioux City
UID:e.769.3407
SEQUENCE:3
DTSTAMP:20260419T134822Z
URL:https://directory.siouxlandchamber.com/events/details/ribbon-cutting-ia-department-for-the-blind-3407
END:VEVENT

END:VCALENDAR
