BEGIN:VCALENDAR
VERSION:2.0
PRODID:-//ChamberMaster//Event Calendar 2.0//EN
METHOD:PUBLISH
X-PUBLISHED-TTL:P3D
REFRESH-INTERVAL:P3D
CALSCALE:GREGORIAN
BEGIN:VEVENT
DTSTART:20221019T210000Z
DTEND:20221019T213000Z
X-MICROSOFT-CDO-ALLDAYEVENT:FALSE
SUMMARY:Ribbon Cutting - Hospice of Siouxland
DESCRIPTION:Hospice of Siouxland is excited to share that they are expanding their team of physicians. Under the leadership of Medical Director\, Dr. Amy Callaghan\, they are excited to welcome Dr. Valery Tran.  Dr. Tran is a 2019 graduate of the University of Nebraska Medical Center College of Medicine. He served as Chief Resident at Siouxland Medical Education Foundation\, where he now serves in a faculty position. Dr. Tran is also joined by long-time staff member Dr. Jeff O'Toole as team physicians.\n\n\n\nSince 1981\, Hospice of Siouxland has been providing high-quality\, end-of-life care to patients and their loved ones.  Their multi-disciplinary staff and volunteers\, including Veterans\, provide care to more than 500 patients\, within a 60 mile-radius of Sioux City.
X-ALT-DESC;FMTTYPE=text/html:Hospice of Siouxland is excited to share that they are expanding their team of physicians. Under the leadership of Medical Director\, Dr. Amy Callaghan\, they are excited to welcome Dr. Valery Tran.&nbsp\; Dr. Tran is a 2019 graduate of the University of Nebraska Medical Center College of Medicine. He served as Chief Resident at Siouxland Medical Education Foundation\, where he now serves in a faculty position. Dr. Tran is also joined by long-time staff member Dr. Jeff O&rsquo\;Toole as team physicians.<br />\n<br />\nSince 1981\, Hospice of Siouxland has been providing high-quality\, end-of-life care to patients and their loved ones.&nbsp\; Their multi-disciplinary staff and volunteers\, including Veterans\, provide care to more than 500 patients\, within a 60 mile-radius of Sioux City.&nbsp\; &nbsp\;
LOCATION:309 Cook St Sioux City\, IA 51103
UID:e.769.5872
SEQUENCE:3
DTSTAMP:20260419T214316Z
URL:https://directory.siouxlandchamber.com/events/details/ribbon-cutting-hospice-of-siouxland-5872
END:VEVENT

END:VCALENDAR
