BEGIN:VCALENDAR
VERSION:2.0
PRODID:-//ChamberMaster//Event Calendar 2.0//EN
METHOD:PUBLISH
X-PUBLISHED-TTL:P3D
REFRESH-INTERVAL:P3D
CALSCALE:GREGORIAN
BEGIN:VEVENT
DTSTART:20191015T213000Z
DTEND:20191015T220000Z
X-MICROSOFT-CDO-ALLDAYEVENT:FALSE
SUMMARY:Ribbon Cutting - Holy Spirit Retirement Home
DESCRIPTION:Holy Spirit Retirement Home is celebrating their 50th Anniversary and welcome everyone to celebrate with them when they host an Open House from 4:00 - 6:00 PM with a 4:30 PM Ribbon Cutting to take place outside the front entrance.  \n\n\n\nSet in the beautiful hills overlooking Sioux City\, Holy Spirit Retirement Home is Siouxland's only faith-based\, locally-owned entity.  Their rich tradition for providing excellent patient care starts with their strong continuum of care approach\, meaning their residents receive the right level of care for their individual health goals and situation.
X-ALT-DESC;FMTTYPE=text/html:Holy Spirit Retirement Home is celebrating their 50th Anniversary and welcome everyone to celebrate with them when they host an Open House from 4:00 - 6:00 PM with a 4:30 PM Ribbon Cutting to take place outside the front entrance.&nbsp\;&nbsp\;<br />\n<br />\nSet in the beautiful hills overlooking Sioux City\, Holy Spirit Retirement Home is Siouxland&#39\;s only faith-based\, locally-owned entity.&nbsp\; Their rich tradition for providing excellent patient care starts with their strong continuum of care approach\, meaning their residents receive the right level of care for their individual health goals and situation.
LOCATION:1701 West 25th Street Sioux City\, IA
UID:e.769.4894
SEQUENCE:3
DTSTAMP:20260421T164958Z
URL:https://directory.siouxlandchamber.com/events/details/ribbon-cutting-holy-spirit-retirement-home-4894
END:VEVENT

END:VCALENDAR
