BEGIN:VCALENDAR
VERSION:2.0
PRODID:-//ChamberMaster//Event Calendar 2.0//EN
METHOD:PUBLISH
X-PUBLISHED-TTL:P3D
REFRESH-INTERVAL:P3D
CALSCALE:GREGORIAN
BEGIN:VEVENT
DTSTART:20181024T190000Z
DTEND:20181024T193000Z
X-MICROSOFT-CDO-ALLDAYEVENT:FALSE
SUMMARY:Ribbon Cutting - Holy Spirit Retirement Home
DESCRIPTION:Holy Spirit Retirement Home will have lots to celebrate at their upcoming ribbon cutting followed by an Open House until 4:00 PM.  We hope you can come and see the newly expanded Memory Care Unit and hear about their recently launched Active Senior Outpatient Therapy Clinic and Active Senior Wellness Program.  So much to tell!
X-ALT-DESC;FMTTYPE=text/html:Holy Spirit Retirement Home will have lots to celebrate at their upcoming ribbon cutting followed by an Open House until 4:00 PM.&nbsp\; We hope you can come and see the newly expanded Memory Care Unit and hear about their recently launched Active Senior Outpatient Therapy Clinic and Active Senior Wellness Program.&nbsp\; So much to tell!
LOCATION:1703 West 25th Street Independent Living Dining Room
UID:e.769.4833
SEQUENCE:3
DTSTAMP:20260420T225524Z
URL:https://directory.siouxlandchamber.com/events/details/ribbon-cutting-holy-spirit-retirement-home-4833
END:VEVENT

END:VCALENDAR
