BEGIN:VCALENDAR
VERSION:2.0
PRODID:-//ChamberMaster//Event Calendar 2.0//EN
METHOD:PUBLISH
X-PUBLISHED-TTL:P3D
REFRESH-INTERVAL:P3D
CALSCALE:GREGORIAN
BEGIN:VEVENT
DTSTART:20170915T140000Z
DTEND:20170915T143000Z
X-MICROSOFT-CDO-ALLDAYEVENT:FALSE
SUMMARY:Ribbon Cutting - Holy Spirit Retirement Home
DESCRIPTION:Always improving\, Holy Spirit is excited to show off their new outdoor signage at their upcoming Ribbon Cutting followed by the South Sioux City Chamber Coffee until 10:30 AM and Open House until 12:00 PM.  These signs\, located throughout the facility will direct all guests and emergency vehicles to their desired destinations and we hope you can join us and congratulate Holy Spirit on the upgrades.  Holy Spirit Retirement Home is Siouxland's only faith-based\, non-profit retirement community offering a unique continuum of care including independent living apartments\, assisted living options and skilled nursing care.
X-ALT-DESC;FMTTYPE=text/html:Always improving\, Holy Spirit is excited to show off their new outdoor signage at their upcoming Ribbon Cutting followed by the South Sioux City Chamber Coffee until 10:30 AM and Open House until 12:00 PM. &nbsp\;These signs\, located throughout the facility will direct all guests and emergency vehicles to their desired destinations and we hope you can join us and congratulate Holy Spirit on the upgrades. &nbsp\;Holy Spirit Retirement Home is Siouxland&#39\;s only faith-based\, non-profit retirement community offering a unique continuum of care including independent living apartments\, assisted living options and skilled nursing care.
LOCATION:1701 W 25th Street\, Sioux City
UID:e.769.3540
SEQUENCE:3
DTSTAMP:20260420T033424Z
URL:https://directory.siouxlandchamber.com/events/details/ribbon-cutting-holy-spirit-retirement-home-3540
END:VEVENT

END:VCALENDAR
