BEGIN:VCALENDAR
VERSION:2.0
PRODID:-//ChamberMaster//Event Calendar 2.0//EN
METHOD:PUBLISH
X-PUBLISHED-TTL:P3D
REFRESH-INTERVAL:P3D
CALSCALE:GREGORIAN
BEGIN:VEVENT
DTSTART:20160915T160000Z
DTEND:20160915T163000Z
X-MICROSOFT-CDO-ALLDAYEVENT:FALSE
SUMMARY:Ribbon Cutting - Holy Spirit Retirement Home
DESCRIPTION:Holy Spirit Retirement Home will celebrate recent expansions with a Chamber ribbon cutting and open house.  Siouxland's ONLY Faith-Based\,\n\nNon-Profit Retirement Community and offers a unique continuum of care approach including independent living apartments\, assisted living options and skilled nursing care.  Please join us in applauding their growth.
X-ALT-DESC;FMTTYPE=text/html:Holy Spirit Retirement Home will celebrate recent expansions with a Chamber ribbon cutting and open house. &nbsp\;Siouxland&rsquo\;s ONLY Faith-Based\,<br />\nNon-Profit Retirement Community&nbsp\;and offers a unique continuum of care approach including independent living apartments\, assisted living options and skilled nursing care. &nbsp\;Please join us in applauding their growth.
LOCATION:1701 W. 25th Street Independent Living Dining Room Sioux City
UID:e.769.3318
SEQUENCE:3
DTSTAMP:20260421T132707Z
URL:https://directory.siouxlandchamber.com/events/details/ribbon-cutting-holy-spirit-retirement-home-09-15-2016-3318
END:VEVENT

END:VCALENDAR
