BEGIN:VCALENDAR
VERSION:2.0
PRODID:-//ChamberMaster//Event Calendar 2.0//EN
METHOD:PUBLISH
X-PUBLISHED-TTL:P3D
REFRESH-INTERVAL:P3D
CALSCALE:GREGORIAN
BEGIN:VEVENT
DTSTART:20160519T160000Z
DTEND:20160519T163000Z
X-MICROSOFT-CDO-ALLDAYEVENT:FALSE
SUMMARY:Ribbon Cutting - Ho-Chunk\, Inc.
DESCRIPTION:Ho-Chunk\, Inc. is launching a new company in Siouxland.  Come celebrate\n\nwith them for the official announcement and Ribbon Cutting Ceremony with reception and refreshments following.  \n\n.
X-ALT-DESC;FMTTYPE=text/html:<span style="font-family:arial narrow\,sans-serif\;"><span style="font-size:12.0pt\;">Ho-Chunk\, Inc. is launching a new company in Siouxland.&nbsp\; Come celebrate<br />\nwith them for the official announcement and Ribbon Cutting Ceremony with reception and refreshments following. &nbsp\;</span></span><br />\n.
LOCATION:Ribbon Cutting will take place in the Ho-Chunk Centre - 8th Floor 600 Fourth Street\, Suite 801 Sioux City
UID:e.769.3248
SEQUENCE:3
DTSTAMP:20260421T201429Z
URL:https://directory.siouxlandchamber.com/events/details/ribbon-cutting-ho-chunk-inc-05-19-2016-3248
END:VEVENT

END:VCALENDAR
