BEGIN:VCALENDAR
VERSION:2.0
PRODID:-//ChamberMaster//Event Calendar 2.0//EN
METHOD:PUBLISH
X-PUBLISHED-TTL:P3D
REFRESH-INTERVAL:P3D
CALSCALE:GREGORIAN
BEGIN:VEVENT
DTSTART:20180501T220000Z
DTEND:20180501T223000Z
X-MICROSOFT-CDO-ALLDAYEVENT:FALSE
SUMMARY:Ribbon Cutting - Historic Preservation Committee
DESCRIPTION:Plan to join us in giving the official Green Coat welcome to the Chamber for the Historic Preservation Committee.  Historic Preservation Week is the first week of May and the committee is hosting a ribbon cutting at M's on Fourth to let you know all the activities planned with food and fun to follow.  For a full listing of the week's events Download the Preservation Week Flyer Here.
X-ALT-DESC;FMTTYPE=text/html:Plan to join us in giving the official Green Coat welcome to the Chamber for the Historic Preservation Committee.&nbsp\; Historic Preservation Week is the first week of May and the committee is hosting a ribbon cutting at M&#39\;s on Fourth to let you know all the activities planned with&nbsp\;food and fun to follow.&nbsp\; For a full listing of the week&#39\;s events&nbsp\;<a href="http://www.siouxcityhp.org/uploads/2/4/0/0/24003857/2018_final_hpweek_flyer_033018.pdf">Download the Preservation Week Flyer Here</a>.
LOCATION:Hosted at M's on 4th 1021 4th Street Sioux City
UID:e.769.4712
SEQUENCE:3
DTSTAMP:20260420T163806Z
URL:https://directory.siouxlandchamber.com/events/details/ribbon-cutting-historic-preservation-committee-4712
END:VEVENT

END:VCALENDAR
