BEGIN:VCALENDAR
VERSION:2.0
PRODID:-//ChamberMaster//Event Calendar 2.0//EN
METHOD:PUBLISH
X-PUBLISHED-TTL:P3D
REFRESH-INTERVAL:P3D
CALSCALE:GREGORIAN
BEGIN:VEVENT
DTSTART:20160713T150000Z
DTEND:20160713T153000Z
X-MICROSOFT-CDO-ALLDAYEVENT:FALSE
SUMMARY:Ribbon Cutting Hirschbach Motor Lines
DESCRIPTION:Hirschbach Motor Lines\, Inc. will hold a ribbon cutting ceremony to celebrate their grand re-opening of their newly remodeled office.  Coffee and donuts will be served.\n\n\n\nHirschbach specializes in delivering fresh and frozen products across the United States along with offering experience in handling dry goods. Hirschbach is a company built on strong relationships with our family of customers\, drivers\, employees\, vendors\, and partner carriers.\n\n\n\nPlease join us in congratulating Hirschbach on their new improvements.
X-ALT-DESC;FMTTYPE=text/html:Hirschbach Motor Lines\, Inc. will hold a ribbon cutting ceremony to celebrate their grand re-opening of their newly remodeled office. &nbsp\;<span style="font-family: Arial\, sans-serif\; font-size: 14px\; line-height: 18.2px\;"><span style="font-family:arial\;">Coffee and donuts will be served.<br />\n<br />\nHirschbach specializes in delivering fresh and frozen products across the United States along with offering experience in handling dry goods. Hirschbach is a company built on strong relationships with our family of customers\, drivers\, employees\, vendors\, and partner carriers</span></span><span style="font-family: Arial\, sans-serif\; font-size: 14px\; line-height: 18.2px\;">.</span><br />\n<br />\nPlease join us in congratulating Hirschbach on their new improvements.
LOCATION:306 Virginia Street\, Suite A Sioux City
UID:e.769.3293
SEQUENCE:3
DTSTAMP:20260421T155951Z
URL:https://directory.siouxlandchamber.com/events/details/ribbon-cutting-hirschbach-motor-lines-07-13-2016-3293
END:VEVENT

END:VCALENDAR
