BEGIN:VCALENDAR
VERSION:2.0
PRODID:-//ChamberMaster//Event Calendar 2.0//EN
METHOD:PUBLISH
X-PUBLISHED-TTL:P3D
REFRESH-INTERVAL:P3D
CALSCALE:GREGORIAN
BEGIN:VEVENT
DTSTART:20161110T200000Z
DTEND:20161110T203000Z
X-MICROSOFT-CDO-ALLDAYEVENT:FALSE
SUMMARY:Ribbon Cutting - Heritage Bank\, Singing Hills
DESCRIPTION:Heritage Bank will hold a Chamber ribbon cutting to unveil their new Hybrid ATM at their Singing Hills location.  We hope you can join us and learn exactly what a Hybrid ATM can do and the benefits to you.  An Open House will be from 1:00 - 4:00 PM with refreshments being served.
X-ALT-DESC;FMTTYPE=text/html:Heritage Bank will hold a Chamber ribbon cutting to unveil their new Hybrid ATM at their Singing Hills location. &nbsp\;We hope you can join us and learn exactly what a Hybrid ATM can do and the benefits to you. &nbsp\;An Open House will be from 1:00 - 4:00 PM with refreshments being served.
LOCATION:4530 Singing Hills Boulevard Sioux City
UID:e.769.3404
SEQUENCE:3
DTSTAMP:20260419T134632Z
URL:https://directory.siouxlandchamber.com/events/details/ribbon-cutting-heritage-bank-singing-hills-3404
END:VEVENT

END:VCALENDAR
