BEGIN:VCALENDAR
VERSION:2.0
PRODID:-//ChamberMaster//Event Calendar 2.0//EN
METHOD:PUBLISH
X-PUBLISHED-TTL:P3D
REFRESH-INTERVAL:P3D
CALSCALE:GREGORIAN
BEGIN:VEVENT
DTSTART:20160608T183000Z
DTEND:20160608T190000Z
X-MICROSOFT-CDO-ALLDAYEVENT:FALSE
SUMMARY:Ribbon Cutting - Her Health Women's Center
DESCRIPTION:Her Health Women's Center has added a new education wing and is celebrating with a ribbon cutting.  Please join the Chamber to congratulate them on their expansion and additional services to the Siouxland community.
X-ALT-DESC;FMTTYPE=text/html:Her Health Women&#39\;s Center has added a new education wing and is celebrating with a ribbon cutting. &nbsp\;Please join the Chamber to congratulate them on their expansion and additional services to the Siouxland community.
LOCATION:5732 Sunnybrook Drive Sioux City
UID:e.769.3263
SEQUENCE:3
DTSTAMP:20260421T174757Z
URL:https://directory.siouxlandchamber.com/events/details/ribbon-cutting-her-health-women-s-center-06-08-2016-3263
END:VEVENT

END:VCALENDAR
