BEGIN:VCALENDAR
VERSION:2.0
PRODID:-//ChamberMaster//Event Calendar 2.0//EN
METHOD:PUBLISH
X-PUBLISHED-TTL:P3D
REFRESH-INTERVAL:P3D
CALSCALE:GREGORIAN
BEGIN:VEVENT
DTSTART:20180413T200000Z
DTEND:20180413T203000Z
X-MICROSOFT-CDO-ALLDAYEVENT:FALSE
SUMMARY:Ribbon Cutting - Hedquist Eye Care
DESCRIPTION:We will celebrate new member\, Hedquist Eye Care\, with a Ribbon Cutting ceremony followed by an Open House until 5:00 PM.  Hedquist Eye Care opened its doors in 2018 and provides vision care and vision correction to people from all over the Midwest and beyond.  Please join us in welcoming Dr. Chris and Misty Hedquist to the Chamber.
X-ALT-DESC;FMTTYPE=text/html:We will celebrate new member\,&nbsp\;Hedquist Eye Care\, with a Ribbon Cutting ceremony followed by an Open House until 5:00 PM.&nbsp\; Hedquist&nbsp\;Eye Care opened its doors in 2018 and provides vision care and vision correction to people from all over the Midwest and beyond.&nbsp\; Please join us in welcoming Dr. Chris and Misty Hedquist to the Chamber.
LOCATION:523 4th Street Sioux City\, IA
UID:e.769.4670
SEQUENCE:3
DTSTAMP:20260420T132902Z
URL:https://directory.siouxlandchamber.com/events/details/ribbon-cutting-hedquist-4670
END:VEVENT

END:VCALENDAR
