BEGIN:VCALENDAR
VERSION:2.0
PRODID:-//ChamberMaster//Event Calendar 2.0//EN
METHOD:PUBLISH
X-PUBLISHED-TTL:P3D
REFRESH-INTERVAL:P3D
CALSCALE:GREGORIAN
BEGIN:VEVENT
DTSTART:20200415T170000Z
DTEND:20200415T173000Z
X-MICROSOFT-CDO-ALLDAYEVENT:FALSE
SUMMARY:Ribbon Cutting - Heartland Counseling Services - POSTPONED
DESCRIPTION:Please join us for a Ribbon Cutting celebrating the 10 year anniversary of Siouxland Chamber of Commerce member\, Heartland Counseling Services. \n\nThere will be an open house from 11am - 1pm with a Ribbon Cutting and presentation/announcements at noon.
X-ALT-DESC;FMTTYPE=text/html:Please join us for a Ribbon Cutting celebrating the 10 year anniversary of Siouxland Chamber of Commerce member\, Heartland Counseling Services.&nbsp\;<br />\nThere will be an open house from 11am - 1pm with a Ribbon Cutting and presentation/announcements at noon.
LOCATION:917 West 21st Street South Sioux City\, NE 68776
UID:e.769.5357
SEQUENCE:3
DTSTAMP:20260421T183019Z
URL:https://directory.siouxlandchamber.com/events/details/ribbon-cutting-heartland-counseling-services-postponed-5357
END:VEVENT

END:VCALENDAR
