BEGIN:VCALENDAR
VERSION:2.0
PRODID:-//ChamberMaster//Event Calendar 2.0//EN
METHOD:PUBLISH
X-PUBLISHED-TTL:P3D
REFRESH-INTERVAL:P3D
CALSCALE:GREGORIAN
BEGIN:VEVENT
DTSTART:20191018T151500Z
DTEND:20191018T154500Z
X-MICROSOFT-CDO-ALLDAYEVENT:FALSE
SUMMARY:Ribbon Cutting - Heartland Counseling Services
DESCRIPTION:Please join us in celebrating with Heartland Counseling Services at the Ribbon Cutting for their new Parent Child Interactive Therapy (PCIT) Room. South Sioux City Chamber Coffee Hour will begin at 9:30\, and the ribbon will be cut at 10:15.
X-ALT-DESC;FMTTYPE=text/html:Please join us in celebrating with Heartland Counseling Services at the Ribbon Cutting for their new Parent Child Interactive Therapy (PCIT) Room. South Sioux City Chamber Coffee Hour will begin at 9:30\, and the ribbon will be cut at 10:15.
LOCATION:Heartland Counseling Services 917 W 21st Street South Sioux City\, NE 68776
UID:e.769.5214
SEQUENCE:3
DTSTAMP:20260421T164750Z
URL:https://directory.siouxlandchamber.com/events/details/ribbon-cutting-heartland-counseling-services-5214
END:VEVENT

END:VCALENDAR
