BEGIN:VCALENDAR
VERSION:2.0
PRODID:-//ChamberMaster//Event Calendar 2.0//EN
METHOD:PUBLISH
X-PUBLISHED-TTL:P3D
REFRESH-INTERVAL:P3D
CALSCALE:GREGORIAN
BEGIN:VEVENT
DTSTART:20170814T223000Z
DTEND:20170814T233000Z
X-MICROSOFT-CDO-ALLDAYEVENT:FALSE
SUMMARY:Ribbon Cutting - Headline Salon and Barber Shop
DESCRIPTION:Welcome Headline Salon and Barber Shop to the Siouxland Chamber!  Join the Chamber Ambassadors and staff for a ribbon cutting ceremony followed by an open house Until 6:30 with Prizes\, Snacks & FUN hosted by co-owners Mattie Schnee and Chassidy Ryan AND you can check out their sweet race car.
X-ALT-DESC;FMTTYPE=text/html:Welcome Headline Salon and Barber Shop to the Siouxland Chamber! &nbsp\;Join the Chamber Ambassadors and staff for a ribbon cutting ceremony followed by an open house Until 6:30 with Prizes\, Snacks &amp\; FUN hosted by&nbsp\;co-owners Mattie Schnee and Chassidy Ryan AND you can check out their sweet race car.<br />\n<br />\n&nbsp\;
LOCATION:2605 Floyd Boulevard\, Sioux City Please park on Prospect Street or Laurence's Market
UID:e.769.3503
SEQUENCE:3
DTSTAMP:20260420T015716Z
URL:https://directory.siouxlandchamber.com/events/details/ribbon-cutting-headline-salon-and-barber-shop-3503
END:VEVENT

END:VCALENDAR
