BEGIN:VCALENDAR
VERSION:2.0
PRODID:-//ChamberMaster//Event Calendar 2.0//EN
METHOD:PUBLISH
X-PUBLISHED-TTL:P3D
REFRESH-INTERVAL:P3D
CALSCALE:GREGORIAN
BEGIN:VEVENT
DTSTART:20200114T180000Z
DTEND:20200114T183000Z
X-MICROSOFT-CDO-ALLDAYEVENT:FALSE
SUMMARY:Ribbon Cutting - Hawks Coffee Shop
DESCRIPTION:Please join us for a Ribbon Cutting celebrating new Siouxland Chamber of Commerce member\, Hawks Coffee Shop!
X-ALT-DESC;FMTTYPE=text/html:Please join us for a Ribbon Cutting celebrating new Siouxland Chamber of Commerce member\, Hawks Coffee Shop!
LOCATION:110 Gaul Drive Sergeant Bluff\, IA 51054
UID:e.769.5323
SEQUENCE:3
DTSTAMP:20260421T211552Z
URL:https://directory.siouxlandchamber.com/events/details/ribbon-cutting-hawks-coffee-shop-5323
END:VEVENT

END:VCALENDAR
