BEGIN:VCALENDAR
VERSION:2.0
PRODID:-//ChamberMaster//Event Calendar 2.0//EN
METHOD:PUBLISH
X-PUBLISHED-TTL:P3D
REFRESH-INTERVAL:P3D
CALSCALE:GREGORIAN
BEGIN:VEVENT
DTSTART:20190801T180000Z
DTEND:20190801T183000Z
X-MICROSOFT-CDO-ALLDAYEVENT:FALSE
SUMMARY:Ribbon Cutting - Hard Rock Hotel & Casino - Sioux City
DESCRIPTION:The Hard Rock Hotel & Casino is celebrating 5 years rocking Sioux City.  Please join us for a ribbon cutting to commemorate the anniversary which will take place at the entrance to the hotel.
X-ALT-DESC;FMTTYPE=text/html:The Hard Rock Hotel &amp\; Casino is celebrating 5 years rocking Sioux City.&nbsp\; Please join us for a ribbon cutting to commemorate the anniversary which will take place at the entrance to the hotel.
LOCATION:111 3rd Street Hotel Entrance Parking available in Battery Park
UID:e.769.5153
SEQUENCE:3
DTSTAMP:20260421T140356Z
URL:https://directory.siouxlandchamber.com/events/details/ribbon-cutting-hard-rock-hotel-casino-sioux-city-5153
END:VEVENT

END:VCALENDAR
