BEGIN:VCALENDAR
VERSION:2.0
PRODID:-//ChamberMaster//Event Calendar 2.0//EN
METHOD:PUBLISH
X-PUBLISHED-TTL:P3D
REFRESH-INTERVAL:P3D
CALSCALE:GREGORIAN
BEGIN:VEVENT
DTSTART:20170707T160000Z
DTEND:20170707T163000Z
X-MICROSOFT-CDO-ALLDAYEVENT:FALSE
SUMMARY:Ribbon Cutting - Hard Rock Food Truck
DESCRIPTION:Come celebrate the Hard Rock Hotel & Casino's newest restaurant when they hold a grand opening event to unveil their new food truck!  The event will take place in Battery Park and we hope you come hungry!
X-ALT-DESC;FMTTYPE=text/html:Come celebrate the Hard Rock Hotel &amp\; Casino&#39\;s newest restaurant when they hold a grand opening event to unveil their new food truck! &nbsp\;The event will take place in Battery Park and we hope you come hungry!
LOCATION:Battery Park\, 111 3rd Street Sioux City
UID:e.769.3522
SEQUENCE:3
DTSTAMP:20260420T015835Z
URL:https://directory.siouxlandchamber.com/events/details/ribbon-cutting-hard-rock-food-truck-3522
END:VEVENT

END:VCALENDAR
