BEGIN:VCALENDAR
VERSION:2.0
PRODID:-//ChamberMaster//Event Calendar 2.0//EN
METHOD:PUBLISH
X-PUBLISHED-TTL:P3D
REFRESH-INTERVAL:P3D
CALSCALE:GREGORIAN
BEGIN:VEVENT
DTSTART:20170130T210000Z
DTEND:20170130T213000Z
X-MICROSOFT-CDO-ALLDAYEVENT:FALSE
SUMMARY:Ribbon Cutting - H & R Block Classroom & Library
DESCRIPTION:We will cut the ribbon to celebrate the opening of a new public classroom and library.  The self-serve library offers information on some 90 topics and the classroom will accommodate a weekly Tax Talk (Tuesdays at 2:00 PM).  Please join us to celebrate H & R Block's growth and service to our community.
X-ALT-DESC;FMTTYPE=text/html:We will cut the ribbon to celebrate the opening of a new public classroom and library. &nbsp\;The self-serve library offers information on some 90 topics and the classroom will accommodate a weekly Tax Talk (Tuesdays at 2:00 PM). &nbsp\;Please join us to celebrate H &amp\; R Block&#39\;s growth and service to our community.
LOCATION:Southern Hills Mall #216 - Across from Iron Hill Restaraunt
UID:e.769.3438
SEQUENCE:3
DTSTAMP:20260419T151356Z
URL:https://directory.siouxlandchamber.com/events/details/ribbon-cutting-h-r-block-classroom-library-3438
END:VEVENT

END:VCALENDAR
