BEGIN:VCALENDAR
VERSION:2.0
PRODID:-//ChamberMaster//Event Calendar 2.0//EN
METHOD:PUBLISH
X-PUBLISHED-TTL:P3D
REFRESH-INTERVAL:P3D
CALSCALE:GREGORIAN
BEGIN:VEVENT
DTSTART:20180522T220000Z
DTEND:20180522T223000Z
X-MICROSOFT-CDO-ALLDAYEVENT:FALSE
SUMMARY:Ribbon Cutting - Great Western Bank
DESCRIPTION:Great Western Bank is celebrating their Grand Re-Opening on Gordon Drive and will kick it off with a Ribbon Cutting followed by an Open House until 6:30 PM.  We hope you can join us for some good food and good company and congratulate Great Western on their move!
X-ALT-DESC;FMTTYPE=text/html:Great Western Bank is celebrating their Grand Re-Opening on Gordon Drive and will kick it off with a Ribbon Cutting followed by an Open House until 6:30 PM.&nbsp\; We hope you can join us for some good food and good company and congratulate Great Western on their move!
LOCATION:839 Gordon Drive Sioux City\, IA
UID:e.769.4682
SEQUENCE:3
DTSTAMP:20260420T150112Z
URL:https://directory.siouxlandchamber.com/events/details/ribbon-cutting-great-western-bank-4682
END:VEVENT

END:VCALENDAR
