BEGIN:VCALENDAR
VERSION:2.0
PRODID:-//ChamberMaster//Event Calendar 2.0//EN
METHOD:PUBLISH
X-PUBLISHED-TTL:P3D
REFRESH-INTERVAL:P3D
CALSCALE:GREGORIAN
BEGIN:VEVENT
DTSTART:20161011T153000Z
DTEND:20161011T160000Z
X-MICROSOFT-CDO-ALLDAYEVENT:FALSE
SUMMARY:Ribbon Cutting - Grandview Park Disc Golf COurse
DESCRIPTION:The City of Sioux City will host a grand opening event and ribbon cutting for the recently completed Grandview Park Disc Golf Course.  Siouxland CARES will also dedicate a bench on the first tee made possible by a donation from the 100+ Men Who Care organization.  Please join in congratulating them on this new community enhancement.
X-ALT-DESC;FMTTYPE=text/html:The City of Sioux City will host a grand opening event and ribbon cutting for the recently completed Grandview Park Disc Golf Course.&nbsp\; Siouxland CARES will also dedicate a bench on the first tee made possible by a donation from the 100+ Men Who Care organization.&nbsp\; Please join in congratulating them on this new community enhancement.
LOCATION:Grandview Park As you enter the park from the south (24th Street)\, continue to the right and park in the upper parking lot.
UID:e.769.3392
SEQUENCE:3
DTSTAMP:20260421T114347Z
URL:https://directory.siouxlandchamber.com/events/details/ribbon-cutting-grandview-park-disc-golf-course-3392
END:VEVENT

END:VCALENDAR
