BEGIN:VCALENDAR
VERSION:2.0
PRODID:-//ChamberMaster//Event Calendar 2.0//EN
METHOD:PUBLISH
X-PUBLISHED-TTL:P3D
REFRESH-INTERVAL:P3D
CALSCALE:GREGORIAN
BEGIN:VEVENT
DTSTART:20170419T150000Z
DTEND:20170419T153000Z
X-MICROSOFT-CDO-ALLDAYEVENT:FALSE
SUMMARY:Ribbon Cutting - Goodwill Outlet Center
DESCRIPTION:Goodwill of the Great Plains is excited to celebrate the Grand Opening of the new Goodwill Outlet Center with a Siouxland Chamber and South Sioux City Chamber Ribbon Cutting.  The Outlet Center will feature last chance\, deeply discounted clothing and household items being sold by the pound with the exception of furniture\, electronics\, and large items which will be individually priced.  Please join us for the ribbon cutting\, congratulate them on the new store and applaud their efforts to reduce landfill waste.
X-ALT-DESC;FMTTYPE=text/html:Goodwill of the Great Plains is excited to celebrate the Grand Opening of the new Goodwill Outlet Center with a Siouxland Chamber and South Sioux City Chamber Ribbon Cutting. &nbsp\;The Outlet Center will feature last chance\, deeply discounted clothing and household items being sold by the pound with the exception of furniture\, electronics\, and large items which will be individually priced. &nbsp\;Please join us for the ribbon cutting\, congratulate them on the new store and applaud their efforts to reduce landfill waste.
LOCATION:3100 West 4th Street Sioux City
UID:e.769.3467
SEQUENCE:3
DTSTAMP:20260419T195608Z
URL:https://directory.siouxlandchamber.com/events/details/ribbon-cutting-goodwill-outlet-center-3467
END:VEVENT

END:VCALENDAR
