BEGIN:VCALENDAR
VERSION:2.0
PRODID:-//ChamberMaster//Event Calendar 2.0//EN
METHOD:PUBLISH
X-PUBLISHED-TTL:P3D
REFRESH-INTERVAL:P3D
CALSCALE:GREGORIAN
BEGIN:VEVENT
DTSTART:20220824T163000Z
DTEND:20220824T170000Z
X-MICROSOFT-CDO-ALLDAYEVENT:FALSE
SUMMARY:Ribbon Cutting - Goodwill of the Great Plains
DESCRIPTION:Join us in celebrating Goodwill's new Career Cruiser. \n\n\n\nGoodwill's Career Cruiser is the latest addition to their mission programming. It offers resum \n\nassistance\, job search resources\, education and training directly to the community at no charge to the public. The Career Cruiser is equipped with 8 workstations\, internet and Career Representatives ready to help you explore job opportunities in your community and surrounding area!
X-ALT-DESC;FMTTYPE=text/html:Join us in celebrating Goodwill&#39\;s new Career Cruiser.&nbsp\;<br />\n<br />\nGoodwill&rsquo\;s Career Cruiser is the latest addition to their mission programming. It offers resum&eacute\;<br />\nassistance\, job search resources\, education and training directly to the community at no charge to the public. The Career Cruiser is equipped with 8 workstations\, internet and Career Representatives ready to help you explore job opportunities in your community and surrounding area!<br />\n&nbsp\;
LOCATION:3100 W. 4th Street Sioux City\, IA
UID:e.769.5848
SEQUENCE:3
DTSTAMP:20260420T003639Z
URL:https://directory.siouxlandchamber.com/events/details/ribbon-cutting-goodwill-of-the-great-plains-5848
END:VEVENT

END:VCALENDAR
