BEGIN:VCALENDAR
VERSION:2.0
PRODID:-//ChamberMaster//Event Calendar 2.0//EN
METHOD:PUBLISH
X-PUBLISHED-TTL:P3D
REFRESH-INTERVAL:P3D
CALSCALE:GREGORIAN
BEGIN:VEVENT
DTSTART:20170217T224500Z
DTEND:20170217T231500Z
X-MICROSOFT-CDO-ALLDAYEVENT:FALSE
SUMMARY:Ribbon Cutting - Gnarly Pepper
DESCRIPTION:We will hold a ribbon cutting ceremony for new member\, Gnarly Pepper\, to kick off their launch event at the Snug.  Gnarly Pepper creates custom spice blends that pair with ANY brand of non-fat plain greek yogurt!  Most blends are vegan friendly\, so try them out with plain non-dairy yogurts including coconut yogurt!  Hope you can stop in\, meet owner Sara Gotch\, and taste her scrumptious dips - her own recipes!
X-ALT-DESC;FMTTYPE=text/html:<span style="font-size:12px\;">We will hold a ribbon cutting ceremony for new member\, Gnarly Pepper\, to kick off their launch event at the Snug. &nbsp\;<span style="background-color: rgb(255\, 255\, 255)\;">Gnarly Pepper creates&nbsp\;custom spice blends that pair with ANY brand of non-fat plain greek yogurt! &nbsp\;Most blends are vegan friendly\, so try them out with plain non-dairy yogurts including coconut yogurt! &nbsp\;Hope you can stop in\, meet owner Sara Gotch\, and taste her scrumptious dips - her own recipes!</span></span>
LOCATION:Hosted at the Snug 419 Pearl Street Sioux City
UID:e.769.3444
SEQUENCE:3
DTSTAMP:20260419T164347Z
URL:https://directory.siouxlandchamber.com/events/details/ribbon-cutting-gnarly-pepper-3444
END:VEVENT

END:VCALENDAR
