BEGIN:VCALENDAR
VERSION:2.0
PRODID:-//ChamberMaster//Event Calendar 2.0//EN
METHOD:PUBLISH
X-PUBLISHED-TTL:P3D
REFRESH-INTERVAL:P3D
CALSCALE:GREGORIAN
BEGIN:VEVENT
DTSTART:20160916T160000Z
DTEND:20160916T163000Z
X-MICROSOFT-CDO-ALLDAYEVENT:FALSE
SUMMARY:Ribbon Cutting - Galactic Stream
DESCRIPTION:The Siouxland Chamber will hold a ribbon cutting to celebrate Galactic Stream's new Chamber membership. Galactic TV is a media streaming device that allows users to access thousands of movies\, tv shows\, and lives sports with the click of a button. Simply decide what you want to watch and click play.  Please join us to help welcome Galactic Stream and enjoy Jimmy Johns following the ribbon cutting and cookies and beverages the rest of the day!
X-ALT-DESC;FMTTYPE=text/html:<span style="font-family:arial narrow\,sans-serif\;">The Siouxland Chamber will hold a ribbon cutting to celebrate Galactic Stream&#39\;s new Chamber membership. Galactic TV is a media streaming device that allows users to access thousands of movies\, tv shows\, and lives sports with the click of a button. Simply decide what you want to watch and click play.&nbsp\; Please join us to help welcome Galactic Stream and enjoy Jimmy Johns following the ribbon cutting and cookies and beverages the rest of the day!</span><br />\n&nbsp\;
LOCATION:507 7th Street\, Suite 260 Sioux City
UID:e.769.3335
SEQUENCE:3
DTSTAMP:20260420T054920Z
URL:https://directory.siouxlandchamber.com/events/details/ribbon-cutting-galactic-stream-3335
END:VEVENT

END:VCALENDAR
